BEGIN:VCALENDAR
VERSION:2.0
PRODID:-//Epidavros Villas &amp; Suites - ECPv4.2.2//NONSGML v1.0//EN
CALSCALE:GREGORIAN
METHOD:PUBLISH
X-WR-CALNAME:Epidavros Villas &amp; Suites
X-ORIGINAL-URL:https://epidavros.villas
X-WR-CALDESC:Events for Epidavros Villas &amp; Suites
BEGIN:VEVENT
DTSTART;TZID=UTC+2:20170701T210000
DTEND;TZID=UTC+2:20170701T230000
DTSTAMP:20260421T101451
CREATED:20170406T102318
LAST-MODIFIED:20170406T102907
UID:4277-1498942800-1498950000@epidavros.villas
SUMMARY:Μήδεια\,του Ευριπίδη - Δημήτρης Καρατζάς
DESCRIPTION:Η παράσταση επιχειρεί να ανασύρει και να τοποθετήσει το ζήτημα «Μήδεια» στο επίκεντρο. Τρεις άντρες βρίσκονται πάνω στη σκηνή προκειμένου να αναρωτηθούν\, να επανεξετάσουν\, να επιχειρήσουν να δώσουν απαντήσεις στον «θρύλο» της Μήδειας από αντρική σκοπιά. Σε ποια σημεία η Μήδεια «υποκρίνεται»\, σε ποια σημεία επιχειρηματολογεί επαρκώς\, ποια μέρη του έργου είναι αμιγώς λογικά και δικαιολογημένα και πού σφάλλει; Πώς τρία πρόσωπα αντίθετου φύλου από αυτό του ρόλου μπορούν να δικαιολογήσουν και να αθωώσουν την πράξη της Μήδειας; Η παράσταση επανέρχεται στο έργο για να θέσει όλα αυτά τα ζητήματα σε έναν πάγκο ανατομικής μελέτης της ρυθμολογίας και της επιχειρηματολογίας του\, σε μια «ψιθυριστή» παράσταση που προσπαθεί να αγγίξει το «σύμπτωμα» της Μήδειας υπό τους ήχους ζωντανής μουσικής
URL:https://epidavros.villas/event/medea2/
LOCATION:Ancient Epidaurus Little Theatre\, Greece
END:VEVENT
END:VCALENDAR